BEGIN:VCALENDAR
VERSION:2.0
PRODID:-//Seward County - ECPv6.15.20//NONSGML v1.0//EN
CALSCALE:GREGORIAN
METHOD:PUBLISH
X-ORIGINAL-URL:https://sewardcountyne.gov
X-WR-CALDESC:Events for Seward County
REFRESH-INTERVAL;VALUE=DURATION:PT1H
X-Robots-Tag:noindex
X-PUBLISHED-TTL:PT1H
BEGIN:VTIMEZONE
TZID:America/Chicago
BEGIN:DAYLIGHT
TZOFFSETFROM:-0600
TZOFFSETTO:-0500
TZNAME:CDT
DTSTART:20270314T080000
END:DAYLIGHT
BEGIN:STANDARD
TZOFFSETFROM:-0500
TZOFFSETTO:-0600
TZNAME:CST
DTSTART:20271107T070000
END:STANDARD
BEGIN:DAYLIGHT
TZOFFSETFROM:-0600
TZOFFSETTO:-0500
TZNAME:CDT
DTSTART:20280312T080000
END:DAYLIGHT
BEGIN:STANDARD
TZOFFSETFROM:-0500
TZOFFSETTO:-0600
TZNAME:CST
DTSTART:20281105T070000
END:STANDARD
BEGIN:DAYLIGHT
TZOFFSETFROM:-0600
TZOFFSETTO:-0500
TZNAME:CDT
DTSTART:20290311T080000
END:DAYLIGHT
BEGIN:STANDARD
TZOFFSETFROM:-0500
TZOFFSETTO:-0600
TZNAME:CST
DTSTART:20291104T070000
END:STANDARD
END:VTIMEZONE
BEGIN:VEVENT
DTSTART;TZID=America/Chicago:20280201T090000
DTEND;TZID=America/Chicago:20280201T090000
DTSTAMP:20260425T180853
CREATED:20250911T185611Z
LAST-MODIFIED:20251017T210148Z
UID:10000471-1833008400-1833008400@sewardcountyne.gov
SUMMARY:County Board Meeting
DESCRIPTION:This is a county board meeting. An agenda can be found on the Board Meetings page.
URL:https://sewardcountyne.gov/event/county-board-meeting-2/2028-02-01/
LOCATION:Seward County Courthouse\, 529 Seward Street\, Seward\, NE\, 68434\, United States
CATEGORIES:County Board Meeting
ATTACH;FMTTYPE=image/jpeg:/wp-content/uploads/sites/50/2025/08/The-Seward-Courthouse-for-Submission-9278-2-002-scaled.jpg
END:VEVENT
BEGIN:VEVENT
DTSTART;TZID=America/Chicago:20280202T084500
DTEND;TZID=America/Chicago:20280202T163000
DTSTAMP:20260425T180853
CREATED:20260415T130603Z
LAST-MODIFIED:20260415T131309Z
UID:10000730-1833093900-1833121800@sewardcountyne.gov
SUMMARY:Driver's Examiner
DESCRIPTION:Examiner is located on the 1st floor of the Seward County Courthouse.  More information can be found on the DMV Services page.
URL:https://sewardcountyne.gov/event/drivers-examiner-2/2028-02-02/
LOCATION:Seward County Courthouse\, 529 Seward Street\, Seward\, NE\, 68434\, United States
CATEGORIES:Driver Examiner
ATTACH;FMTTYPE=image/jpeg:/wp-content/uploads/sites/50/2025/08/The-Seward-Courthouse-for-Submission-9278-2-002-scaled.jpg
END:VEVENT
BEGIN:VEVENT
DTSTART;TZID=America/Chicago:20280208T090000
DTEND;TZID=America/Chicago:20280208T090000
DTSTAMP:20260425T180853
CREATED:20250911T185611Z
LAST-MODIFIED:20251017T210148Z
UID:10000472-1833613200-1833613200@sewardcountyne.gov
SUMMARY:County Board Meeting
DESCRIPTION:This is a county board meeting. An agenda can be found on the Board Meetings page.
URL:https://sewardcountyne.gov/event/county-board-meeting-2/2028-02-08/
LOCATION:Seward County Courthouse\, 529 Seward Street\, Seward\, NE\, 68434\, United States
CATEGORIES:County Board Meeting
ATTACH;FMTTYPE=image/jpeg:/wp-content/uploads/sites/50/2025/08/The-Seward-Courthouse-for-Submission-9278-2-002-scaled.jpg
END:VEVENT
BEGIN:VEVENT
DTSTART;TZID=America/Chicago:20280209T084500
DTEND;TZID=America/Chicago:20280209T163000
DTSTAMP:20260425T180853
CREATED:20260415T130603Z
LAST-MODIFIED:20260415T131309Z
UID:10000731-1833698700-1833726600@sewardcountyne.gov
SUMMARY:Driver's Examiner
DESCRIPTION:Examiner is located on the 1st floor of the Seward County Courthouse.  More information can be found on the DMV Services page.
URL:https://sewardcountyne.gov/event/drivers-examiner-2/2028-02-09/
LOCATION:Seward County Courthouse\, 529 Seward Street\, Seward\, NE\, 68434\, United States
CATEGORIES:Driver Examiner
ATTACH;FMTTYPE=image/jpeg:/wp-content/uploads/sites/50/2025/08/The-Seward-Courthouse-for-Submission-9278-2-002-scaled.jpg
END:VEVENT
BEGIN:VEVENT
DTSTART;TZID=America/Chicago:20280215T090000
DTEND;TZID=America/Chicago:20280215T090000
DTSTAMP:20260425T180853
CREATED:20250911T185611Z
LAST-MODIFIED:20251017T210148Z
UID:10000473-1834218000-1834218000@sewardcountyne.gov
SUMMARY:County Board Meeting
DESCRIPTION:This is a county board meeting. An agenda can be found on the Board Meetings page.
URL:https://sewardcountyne.gov/event/county-board-meeting-2/2028-02-15/
LOCATION:Seward County Courthouse\, 529 Seward Street\, Seward\, NE\, 68434\, United States
CATEGORIES:County Board Meeting
ATTACH;FMTTYPE=image/jpeg:/wp-content/uploads/sites/50/2025/08/The-Seward-Courthouse-for-Submission-9278-2-002-scaled.jpg
END:VEVENT
BEGIN:VEVENT
DTSTART;TZID=America/Chicago:20280216T084500
DTEND;TZID=America/Chicago:20280216T163000
DTSTAMP:20260425T180853
CREATED:20260415T130603Z
LAST-MODIFIED:20260415T131309Z
UID:10000732-1834303500-1834331400@sewardcountyne.gov
SUMMARY:Driver's Examiner
DESCRIPTION:Examiner is located on the 1st floor of the Seward County Courthouse.  More information can be found on the DMV Services page.
URL:https://sewardcountyne.gov/event/drivers-examiner-2/2028-02-16/
LOCATION:Seward County Courthouse\, 529 Seward Street\, Seward\, NE\, 68434\, United States
CATEGORIES:Driver Examiner
ATTACH;FMTTYPE=image/jpeg:/wp-content/uploads/sites/50/2025/08/The-Seward-Courthouse-for-Submission-9278-2-002-scaled.jpg
END:VEVENT
BEGIN:VEVENT
DTSTART;VALUE=DATE:20280221
DTEND;VALUE=DATE:20280222
DTSTAMP:20260425T180853
CREATED:20240821T153425Z
LAST-MODIFIED:20241212T170616Z
UID:10000314-1834704000-1834790399@sewardcountyne.gov
SUMMARY:President's Day - Closed
DESCRIPTION:All Offices Closed
URL:https://sewardcountyne.gov/event/presidents-day/2028-02-21/
LOCATION:NE
CATEGORIES:Holiday
END:VEVENT
BEGIN:VEVENT
DTSTART;TZID=America/Chicago:20280221T190000
DTEND;TZID=America/Chicago:20280221T190000
DTSTAMP:20260425T180853
CREATED:20251008T195135Z
LAST-MODIFIED:20260120T175419Z
UID:10000897-1834772400-1834772400@sewardcountyne.gov
SUMMARY:Planning Commission Meeting
DESCRIPTION:This is a meeting of the Seward County Planning Commission.  An agenda can be found on the Planning and Zoning Meetings page.
URL:https://sewardcountyne.gov/event/planning-commission-meeting/2028-02-21/
LOCATION:Extension Office\, 322 S 14th Street\, Seward\, NE\, 68434\, United States
CATEGORIES:Planning Commission Meeting
ATTACH;FMTTYPE=image/jpeg:/wp-content/uploads/sites/50/2024/10/Countryside-Beauty-for-submission-9292-1-scaled.jpg
END:VEVENT
BEGIN:VEVENT
DTSTART;TZID=America/Chicago:20280222T090000
DTEND;TZID=America/Chicago:20280222T090000
DTSTAMP:20260425T180853
CREATED:20250911T185611Z
LAST-MODIFIED:20251017T210148Z
UID:10000474-1834822800-1834822800@sewardcountyne.gov
SUMMARY:County Board Meeting
DESCRIPTION:This is a county board meeting. An agenda can be found on the Board Meetings page.
URL:https://sewardcountyne.gov/event/county-board-meeting-2/2028-02-22/
LOCATION:Seward County Courthouse\, 529 Seward Street\, Seward\, NE\, 68434\, United States
CATEGORIES:County Board Meeting
ATTACH;FMTTYPE=image/jpeg:/wp-content/uploads/sites/50/2025/08/The-Seward-Courthouse-for-Submission-9278-2-002-scaled.jpg
END:VEVENT
BEGIN:VEVENT
DTSTART;TZID=America/Chicago:20280223T084500
DTEND;TZID=America/Chicago:20280223T163000
DTSTAMP:20260425T180853
CREATED:20260415T130603Z
LAST-MODIFIED:20260415T131309Z
UID:10000733-1834908300-1834936200@sewardcountyne.gov
SUMMARY:Driver's Examiner
DESCRIPTION:Examiner is located on the 1st floor of the Seward County Courthouse.  More information can be found on the DMV Services page.
URL:https://sewardcountyne.gov/event/drivers-examiner-2/2028-02-23/
LOCATION:Seward County Courthouse\, 529 Seward Street\, Seward\, NE\, 68434\, United States
CATEGORIES:Driver Examiner
ATTACH;FMTTYPE=image/jpeg:/wp-content/uploads/sites/50/2025/08/The-Seward-Courthouse-for-Submission-9278-2-002-scaled.jpg
END:VEVENT
BEGIN:VEVENT
DTSTART;TZID=America/Chicago:20280229T090000
DTEND;TZID=America/Chicago:20280229T090000
DTSTAMP:20260425T180853
CREATED:20250911T185611Z
LAST-MODIFIED:20251017T210148Z
UID:10000475-1835427600-1835427600@sewardcountyne.gov
SUMMARY:County Board Meeting
DESCRIPTION:This is a county board meeting. An agenda can be found on the Board Meetings page.
URL:https://sewardcountyne.gov/event/county-board-meeting-2/2028-02-29/
LOCATION:Seward County Courthouse\, 529 Seward Street\, Seward\, NE\, 68434\, United States
CATEGORIES:County Board Meeting
ATTACH;FMTTYPE=image/jpeg:/wp-content/uploads/sites/50/2025/08/The-Seward-Courthouse-for-Submission-9278-2-002-scaled.jpg
END:VEVENT
END:VCALENDAR