BEGIN:VCALENDAR
VERSION:2.0
PRODID:-//Seward County - ECPv6.15.20//NONSGML v1.0//EN
CALSCALE:GREGORIAN
METHOD:PUBLISH
X-ORIGINAL-URL:https://sewardcountyne.gov
X-WR-CALDESC:Events for Seward County
REFRESH-INTERVAL;VALUE=DURATION:PT1H
X-Robots-Tag:noindex
X-PUBLISHED-TTL:PT1H
BEGIN:VTIMEZONE
TZID:America/Chicago
BEGIN:DAYLIGHT
TZOFFSETFROM:-0600
TZOFFSETTO:-0500
TZNAME:CDT
DTSTART:20270314T080000
END:DAYLIGHT
BEGIN:STANDARD
TZOFFSETFROM:-0500
TZOFFSETTO:-0600
TZNAME:CST
DTSTART:20271107T070000
END:STANDARD
BEGIN:DAYLIGHT
TZOFFSETFROM:-0600
TZOFFSETTO:-0500
TZNAME:CDT
DTSTART:20280312T080000
END:DAYLIGHT
BEGIN:STANDARD
TZOFFSETFROM:-0500
TZOFFSETTO:-0600
TZNAME:CST
DTSTART:20281105T070000
END:STANDARD
BEGIN:DAYLIGHT
TZOFFSETFROM:-0600
TZOFFSETTO:-0500
TZNAME:CDT
DTSTART:20290311T080000
END:DAYLIGHT
BEGIN:STANDARD
TZOFFSETFROM:-0500
TZOFFSETTO:-0600
TZNAME:CST
DTSTART:20291104T070000
END:STANDARD
END:VTIMEZONE
BEGIN:VEVENT
DTSTART;TZID=America/Chicago:20280101T000000
DTEND;TZID=America/Chicago:20280101T235959
DTSTAMP:20260425T164752
CREATED:20240730T161545Z
LAST-MODIFIED:20241212T170650Z
UID:10000309-1830297600-1830383999@sewardcountyne.gov
SUMMARY:New Year's Day - Closed
DESCRIPTION:All Offices Closed
URL:https://sewardcountyne.gov/event/new-years-day/2028-01-01/
LOCATION:NE
CATEGORIES:Holiday
END:VEVENT
BEGIN:VEVENT
DTSTART;TZID=America/Chicago:20280104T090000
DTEND;TZID=America/Chicago:20280104T090000
DTSTAMP:20260425T164752
CREATED:20250911T185611Z
LAST-MODIFIED:20251017T210148Z
UID:10000467-1830589200-1830589200@sewardcountyne.gov
SUMMARY:County Board Meeting
DESCRIPTION:This is a county board meeting. An agenda can be found on the Board Meetings page.
URL:https://sewardcountyne.gov/event/county-board-meeting-2/2028-01-04/
LOCATION:Seward County Courthouse\, 529 Seward Street\, Seward\, NE\, 68434\, United States
CATEGORIES:County Board Meeting
ATTACH;FMTTYPE=image/jpeg:/wp-content/uploads/sites/50/2025/08/The-Seward-Courthouse-for-Submission-9278-2-002-scaled.jpg
END:VEVENT
BEGIN:VEVENT
DTSTART;TZID=America/Chicago:20280105T084500
DTEND;TZID=America/Chicago:20280105T163000
DTSTAMP:20260425T164752
CREATED:20260415T130603Z
LAST-MODIFIED:20260415T131309Z
UID:10000726-1830674700-1830702600@sewardcountyne.gov
SUMMARY:Driver's Examiner
DESCRIPTION:Examiner is located on the 1st floor of the Seward County Courthouse.  More information can be found on the DMV Services page.
URL:https://sewardcountyne.gov/event/drivers-examiner-2/2028-01-05/
LOCATION:Seward County Courthouse\, 529 Seward Street\, Seward\, NE\, 68434\, United States
CATEGORIES:Driver Examiner
ATTACH;FMTTYPE=image/jpeg:/wp-content/uploads/sites/50/2025/08/The-Seward-Courthouse-for-Submission-9278-2-002-scaled.jpg
END:VEVENT
BEGIN:VEVENT
DTSTART;TZID=America/Chicago:20280111T090000
DTEND;TZID=America/Chicago:20280111T090000
DTSTAMP:20260425T164752
CREATED:20250911T185611Z
LAST-MODIFIED:20251017T210148Z
UID:10000468-1831194000-1831194000@sewardcountyne.gov
SUMMARY:County Board Meeting
DESCRIPTION:This is a county board meeting. An agenda can be found on the Board Meetings page.
URL:https://sewardcountyne.gov/event/county-board-meeting-2/2028-01-11/
LOCATION:Seward County Courthouse\, 529 Seward Street\, Seward\, NE\, 68434\, United States
CATEGORIES:County Board Meeting
ATTACH;FMTTYPE=image/jpeg:/wp-content/uploads/sites/50/2025/08/The-Seward-Courthouse-for-Submission-9278-2-002-scaled.jpg
END:VEVENT
BEGIN:VEVENT
DTSTART;TZID=America/Chicago:20280112T084500
DTEND;TZID=America/Chicago:20280112T163000
DTSTAMP:20260425T164752
CREATED:20260415T130603Z
LAST-MODIFIED:20260415T131309Z
UID:10000727-1831279500-1831307400@sewardcountyne.gov
SUMMARY:Driver's Examiner
DESCRIPTION:Examiner is located on the 1st floor of the Seward County Courthouse.  More information can be found on the DMV Services page.
URL:https://sewardcountyne.gov/event/drivers-examiner-2/2028-01-12/
LOCATION:Seward County Courthouse\, 529 Seward Street\, Seward\, NE\, 68434\, United States
CATEGORIES:Driver Examiner
ATTACH;FMTTYPE=image/jpeg:/wp-content/uploads/sites/50/2025/08/The-Seward-Courthouse-for-Submission-9278-2-002-scaled.jpg
END:VEVENT
BEGIN:VEVENT
DTSTART;TZID=America/Chicago:20280117T080000
DTEND;TZID=America/Chicago:20280117T170000
DTSTAMP:20260425T164752
CREATED:20240730T161350Z
LAST-MODIFIED:20241212T170647Z
UID:10000303-1831708800-1831741200@sewardcountyne.gov
SUMMARY:Martin Luther King Jr. Day - Closed
DESCRIPTION:All Offices Closed.
URL:https://sewardcountyne.gov/event/martin-luther-king-jr-day/2028-01-17/
LOCATION:NE
CATEGORIES:Holiday
END:VEVENT
BEGIN:VEVENT
DTSTART;TZID=America/Chicago:20280117T190000
DTEND;TZID=America/Chicago:20280117T190000
DTSTAMP:20260425T164752
CREATED:20251008T195135Z
LAST-MODIFIED:20260120T175419Z
UID:10000896-1831748400-1831748400@sewardcountyne.gov
SUMMARY:Planning Commission Meeting
DESCRIPTION:This is a meeting of the Seward County Planning Commission.  An agenda can be found on the Planning and Zoning Meetings page.
URL:https://sewardcountyne.gov/event/planning-commission-meeting/2028-01-17/
LOCATION:Extension Office\, 322 S 14th Street\, Seward\, NE\, 68434\, United States
CATEGORIES:Planning Commission Meeting
ATTACH;FMTTYPE=image/jpeg:/wp-content/uploads/sites/50/2024/10/Countryside-Beauty-for-submission-9292-1-scaled.jpg
END:VEVENT
BEGIN:VEVENT
DTSTART;TZID=America/Chicago:20280118T090000
DTEND;TZID=America/Chicago:20280118T090000
DTSTAMP:20260425T164752
CREATED:20250911T185611Z
LAST-MODIFIED:20251017T210148Z
UID:10000469-1831798800-1831798800@sewardcountyne.gov
SUMMARY:County Board Meeting
DESCRIPTION:This is a county board meeting. An agenda can be found on the Board Meetings page.
URL:https://sewardcountyne.gov/event/county-board-meeting-2/2028-01-18/
LOCATION:Seward County Courthouse\, 529 Seward Street\, Seward\, NE\, 68434\, United States
CATEGORIES:County Board Meeting
ATTACH;FMTTYPE=image/jpeg:/wp-content/uploads/sites/50/2025/08/The-Seward-Courthouse-for-Submission-9278-2-002-scaled.jpg
END:VEVENT
BEGIN:VEVENT
DTSTART;TZID=America/Chicago:20280119T084500
DTEND;TZID=America/Chicago:20280119T163000
DTSTAMP:20260425T164752
CREATED:20260415T130603Z
LAST-MODIFIED:20260415T131309Z
UID:10000728-1831884300-1831912200@sewardcountyne.gov
SUMMARY:Driver's Examiner
DESCRIPTION:Examiner is located on the 1st floor of the Seward County Courthouse.  More information can be found on the DMV Services page.
URL:https://sewardcountyne.gov/event/drivers-examiner-2/2028-01-19/
LOCATION:Seward County Courthouse\, 529 Seward Street\, Seward\, NE\, 68434\, United States
CATEGORIES:Driver Examiner
ATTACH;FMTTYPE=image/jpeg:/wp-content/uploads/sites/50/2025/08/The-Seward-Courthouse-for-Submission-9278-2-002-scaled.jpg
END:VEVENT
BEGIN:VEVENT
DTSTART;TZID=America/Chicago:20280125T090000
DTEND;TZID=America/Chicago:20280125T090000
DTSTAMP:20260425T164752
CREATED:20250911T185611Z
LAST-MODIFIED:20251017T210148Z
UID:10000470-1832403600-1832403600@sewardcountyne.gov
SUMMARY:County Board Meeting
DESCRIPTION:This is a county board meeting. An agenda can be found on the Board Meetings page.
URL:https://sewardcountyne.gov/event/county-board-meeting-2/2028-01-25/
LOCATION:Seward County Courthouse\, 529 Seward Street\, Seward\, NE\, 68434\, United States
CATEGORIES:County Board Meeting
ATTACH;FMTTYPE=image/jpeg:/wp-content/uploads/sites/50/2025/08/The-Seward-Courthouse-for-Submission-9278-2-002-scaled.jpg
END:VEVENT
BEGIN:VEVENT
DTSTART;TZID=America/Chicago:20280126T084500
DTEND;TZID=America/Chicago:20280126T163000
DTSTAMP:20260425T164752
CREATED:20260415T130603Z
LAST-MODIFIED:20260415T131309Z
UID:10000729-1832489100-1832517000@sewardcountyne.gov
SUMMARY:Driver's Examiner
DESCRIPTION:Examiner is located on the 1st floor of the Seward County Courthouse.  More information can be found on the DMV Services page.
URL:https://sewardcountyne.gov/event/drivers-examiner-2/2028-01-26/
LOCATION:Seward County Courthouse\, 529 Seward Street\, Seward\, NE\, 68434\, United States
CATEGORIES:Driver Examiner
ATTACH;FMTTYPE=image/jpeg:/wp-content/uploads/sites/50/2025/08/The-Seward-Courthouse-for-Submission-9278-2-002-scaled.jpg
END:VEVENT
END:VCALENDAR