BEGIN:VCALENDAR
VERSION:2.0
PRODID:-//Seward County - ECPv6.15.20//NONSGML v1.0//EN
CALSCALE:GREGORIAN
METHOD:PUBLISH
X-ORIGINAL-URL:https://sewardcountyne.gov
X-WR-CALDESC:Events for Seward County
REFRESH-INTERVAL;VALUE=DURATION:PT1H
X-Robots-Tag:noindex
X-PUBLISHED-TTL:PT1H
BEGIN:VTIMEZONE
TZID:America/Chicago
BEGIN:DAYLIGHT
TZOFFSETFROM:-0600
TZOFFSETTO:-0500
TZNAME:CDT
DTSTART:20250309T080000
END:DAYLIGHT
BEGIN:STANDARD
TZOFFSETFROM:-0500
TZOFFSETTO:-0600
TZNAME:CST
DTSTART:20251102T070000
END:STANDARD
BEGIN:DAYLIGHT
TZOFFSETFROM:-0600
TZOFFSETTO:-0500
TZNAME:CDT
DTSTART:20260308T080000
END:DAYLIGHT
BEGIN:STANDARD
TZOFFSETFROM:-0500
TZOFFSETTO:-0600
TZNAME:CST
DTSTART:20261101T070000
END:STANDARD
BEGIN:DAYLIGHT
TZOFFSETFROM:-0600
TZOFFSETTO:-0500
TZNAME:CDT
DTSTART:20270314T080000
END:DAYLIGHT
BEGIN:STANDARD
TZOFFSETFROM:-0500
TZOFFSETTO:-0600
TZNAME:CST
DTSTART:20271107T070000
END:STANDARD
END:VTIMEZONE
BEGIN:VEVENT
DTSTART;TZID=America/Chicago:20261103T090000
DTEND;TZID=America/Chicago:20261103T090000
DTSTAMP:20260424T200824
CREATED:20250911T185611Z
LAST-MODIFIED:20251017T210148Z
UID:10000406-1793696400-1793696400@sewardcountyne.gov
SUMMARY:County Board Meeting
DESCRIPTION:This is a county board meeting. An agenda can be found on the Board Meetings page.
URL:https://sewardcountyne.gov/event/county-board-meeting-2/2026-11-03/
LOCATION:Seward County Courthouse\, 529 Seward Street\, Seward\, NE\, 68434\, United States
CATEGORIES:County Board Meeting
ATTACH;FMTTYPE=image/jpeg:/wp-content/uploads/sites/50/2025/08/The-Seward-Courthouse-for-Submission-9278-2-002-scaled.jpg
END:VEVENT
BEGIN:VEVENT
DTSTART;TZID=America/Chicago:20261104T084500
DTEND;TZID=America/Chicago:20261104T163000
DTSTAMP:20260424T200824
CREATED:20260415T130603Z
LAST-MODIFIED:20260415T131309Z
UID:10000665-1793781900-1793809800@sewardcountyne.gov
SUMMARY:Driver's Examiner
DESCRIPTION:Examiner is located on the 1st floor of the Seward County Courthouse.  More information can be found on the DMV Services page.
URL:https://sewardcountyne.gov/event/drivers-examiner-2/2026-11-04/
LOCATION:Seward County Courthouse\, 529 Seward Street\, Seward\, NE\, 68434\, United States
CATEGORIES:Driver Examiner
ATTACH;FMTTYPE=image/jpeg:/wp-content/uploads/sites/50/2025/08/The-Seward-Courthouse-for-Submission-9278-2-002-scaled.jpg
END:VEVENT
BEGIN:VEVENT
DTSTART;TZID=America/Chicago:20261110T090000
DTEND;TZID=America/Chicago:20261110T090000
DTSTAMP:20260424T200824
CREATED:20250911T185611Z
LAST-MODIFIED:20251017T210148Z
UID:10000407-1794301200-1794301200@sewardcountyne.gov
SUMMARY:County Board Meeting
DESCRIPTION:This is a county board meeting. An agenda can be found on the Board Meetings page.
URL:https://sewardcountyne.gov/event/county-board-meeting-2/2026-11-10/
LOCATION:Seward County Courthouse\, 529 Seward Street\, Seward\, NE\, 68434\, United States
CATEGORIES:County Board Meeting
ATTACH;FMTTYPE=image/jpeg:/wp-content/uploads/sites/50/2025/08/The-Seward-Courthouse-for-Submission-9278-2-002-scaled.jpg
END:VEVENT
BEGIN:VEVENT
DTSTART;TZID=America/Chicago:20261111T000000
DTEND;TZID=America/Chicago:20261111T235959
DTSTAMP:20260424T200824
CREATED:20240429T211701Z
LAST-MODIFIED:20241212T170626Z
UID:10000281-1794355200-1794441599@sewardcountyne.gov
SUMMARY:Veteran's Day - Closed
DESCRIPTION:All Offices Closed
URL:https://sewardcountyne.gov/event/veterans-day/2026-11-11/
LOCATION:NE
CATEGORIES:Holiday
END:VEVENT
BEGIN:VEVENT
DTSTART;TZID=America/Chicago:20261111T084500
DTEND;TZID=America/Chicago:20261111T163000
DTSTAMP:20260424T200824
CREATED:20260415T130603Z
LAST-MODIFIED:20260415T131309Z
UID:10000666-1794386700-1794414600@sewardcountyne.gov
SUMMARY:Driver's Examiner
DESCRIPTION:Examiner is located on the 1st floor of the Seward County Courthouse.  More information can be found on the DMV Services page.
URL:https://sewardcountyne.gov/event/drivers-examiner-2/2026-11-11/
LOCATION:Seward County Courthouse\, 529 Seward Street\, Seward\, NE\, 68434\, United States
CATEGORIES:Driver Examiner
ATTACH;FMTTYPE=image/jpeg:/wp-content/uploads/sites/50/2025/08/The-Seward-Courthouse-for-Submission-9278-2-002-scaled.jpg
END:VEVENT
BEGIN:VEVENT
DTSTART;TZID=America/Chicago:20261116T190000
DTEND;TZID=America/Chicago:20261116T190000
DTSTAMP:20260424T200824
CREATED:20251008T195135Z
LAST-MODIFIED:20260120T175419Z
UID:10000882-1794855600-1794855600@sewardcountyne.gov
SUMMARY:Planning Commission Meeting
DESCRIPTION:This is a meeting of the Seward County Planning Commission.  An agenda can be found on the Planning and Zoning Meetings page.
URL:https://sewardcountyne.gov/event/planning-commission-meeting/2026-11-16/
LOCATION:Extension Office\, 322 S 14th Street\, Seward\, NE\, 68434\, United States
CATEGORIES:Planning Commission Meeting
ATTACH;FMTTYPE=image/jpeg:/wp-content/uploads/sites/50/2024/10/Countryside-Beauty-for-submission-9292-1-scaled.jpg
END:VEVENT
BEGIN:VEVENT
DTSTART;TZID=America/Chicago:20261117T090000
DTEND;TZID=America/Chicago:20261117T090000
DTSTAMP:20260424T200824
CREATED:20250911T185611Z
LAST-MODIFIED:20251017T210148Z
UID:10000408-1794906000-1794906000@sewardcountyne.gov
SUMMARY:County Board Meeting
DESCRIPTION:This is a county board meeting. An agenda can be found on the Board Meetings page.
URL:https://sewardcountyne.gov/event/county-board-meeting-2/2026-11-17/
LOCATION:Seward County Courthouse\, 529 Seward Street\, Seward\, NE\, 68434\, United States
CATEGORIES:County Board Meeting
ATTACH;FMTTYPE=image/jpeg:/wp-content/uploads/sites/50/2025/08/The-Seward-Courthouse-for-Submission-9278-2-002-scaled.jpg
END:VEVENT
BEGIN:VEVENT
DTSTART;TZID=America/Chicago:20261118T084500
DTEND;TZID=America/Chicago:20261118T163000
DTSTAMP:20260424T200824
CREATED:20260415T130603Z
LAST-MODIFIED:20260415T131309Z
UID:10000667-1794991500-1795019400@sewardcountyne.gov
SUMMARY:Driver's Examiner
DESCRIPTION:Examiner is located on the 1st floor of the Seward County Courthouse.  More information can be found on the DMV Services page.
URL:https://sewardcountyne.gov/event/drivers-examiner-2/2026-11-18/
LOCATION:Seward County Courthouse\, 529 Seward Street\, Seward\, NE\, 68434\, United States
CATEGORIES:Driver Examiner
ATTACH;FMTTYPE=image/jpeg:/wp-content/uploads/sites/50/2025/08/The-Seward-Courthouse-for-Submission-9278-2-002-scaled.jpg
END:VEVENT
BEGIN:VEVENT
DTSTART;TZID=America/Chicago:20261124T090000
DTEND;TZID=America/Chicago:20261124T090000
DTSTAMP:20260424T200824
CREATED:20250911T185611Z
LAST-MODIFIED:20251017T210148Z
UID:10000409-1795510800-1795510800@sewardcountyne.gov
SUMMARY:County Board Meeting
DESCRIPTION:This is a county board meeting. An agenda can be found on the Board Meetings page.
URL:https://sewardcountyne.gov/event/county-board-meeting-2/2026-11-24/
LOCATION:Seward County Courthouse\, 529 Seward Street\, Seward\, NE\, 68434\, United States
CATEGORIES:County Board Meeting
ATTACH;FMTTYPE=image/jpeg:/wp-content/uploads/sites/50/2025/08/The-Seward-Courthouse-for-Submission-9278-2-002-scaled.jpg
END:VEVENT
BEGIN:VEVENT
DTSTART;TZID=America/Chicago:20261125T084500
DTEND;TZID=America/Chicago:20261125T163000
DTSTAMP:20260424T200824
CREATED:20260415T130603Z
LAST-MODIFIED:20260415T131309Z
UID:10000668-1795596300-1795624200@sewardcountyne.gov
SUMMARY:Driver's Examiner
DESCRIPTION:Examiner is located on the 1st floor of the Seward County Courthouse.  More information can be found on the DMV Services page.
URL:https://sewardcountyne.gov/event/drivers-examiner-2/2026-11-25/
LOCATION:Seward County Courthouse\, 529 Seward Street\, Seward\, NE\, 68434\, United States
CATEGORIES:Driver Examiner
ATTACH;FMTTYPE=image/jpeg:/wp-content/uploads/sites/50/2025/08/The-Seward-Courthouse-for-Submission-9278-2-002-scaled.jpg
END:VEVENT
BEGIN:VEVENT
DTSTART;TZID=America/Chicago:20261126T000000
DTEND;TZID=America/Chicago:20261127T235959
DTSTAMP:20260424T200824
CREATED:20240429T211743Z
LAST-MODIFIED:20241212T170623Z
UID:10000277-1795651200-1795823999@sewardcountyne.gov
SUMMARY:Thanksgiving - Closed
DESCRIPTION:All Offices Closed
URL:https://sewardcountyne.gov/event/thanksgiving/2026-11-26/
LOCATION:NE
CATEGORIES:Holiday
END:VEVENT
END:VCALENDAR