BEGIN:VCALENDAR
VERSION:2.0
PRODID:-//Seward County - ECPv6.15.20//NONSGML v1.0//EN
CALSCALE:GREGORIAN
METHOD:PUBLISH
X-ORIGINAL-URL:https://sewardcountyne.gov
X-WR-CALDESC:Events for Seward County
REFRESH-INTERVAL;VALUE=DURATION:PT1H
X-Robots-Tag:noindex
X-PUBLISHED-TTL:PT1H
BEGIN:VTIMEZONE
TZID:America/Chicago
BEGIN:DAYLIGHT
TZOFFSETFROM:-0600
TZOFFSETTO:-0500
TZNAME:CDT
DTSTART:20250309T080000
END:DAYLIGHT
BEGIN:STANDARD
TZOFFSETFROM:-0500
TZOFFSETTO:-0600
TZNAME:CST
DTSTART:20251102T070000
END:STANDARD
BEGIN:DAYLIGHT
TZOFFSETFROM:-0600
TZOFFSETTO:-0500
TZNAME:CDT
DTSTART:20260308T080000
END:DAYLIGHT
BEGIN:STANDARD
TZOFFSETFROM:-0500
TZOFFSETTO:-0600
TZNAME:CST
DTSTART:20261101T070000
END:STANDARD
BEGIN:DAYLIGHT
TZOFFSETFROM:-0600
TZOFFSETTO:-0500
TZNAME:CDT
DTSTART:20270314T080000
END:DAYLIGHT
BEGIN:STANDARD
TZOFFSETFROM:-0500
TZOFFSETTO:-0600
TZNAME:CST
DTSTART:20271107T070000
END:STANDARD
END:VTIMEZONE
BEGIN:VEVENT
DTSTART;TZID=America/Chicago:20260701T084500
DTEND;TZID=America/Chicago:20260701T163000
DTSTAMP:20260424T154628
CREATED:20260415T130603Z
LAST-MODIFIED:20260415T131309Z
UID:10000647-1782895500-1782923400@sewardcountyne.gov
SUMMARY:Driver's Examiner
DESCRIPTION:Examiner is located on the 1st floor of the Seward County Courthouse.  More information can be found on the DMV Services page.
URL:https://sewardcountyne.gov/event/drivers-examiner-2/2026-07-01/
LOCATION:Seward County Courthouse\, 529 Seward Street\, Seward\, NE\, 68434\, United States
CATEGORIES:Driver Examiner
ATTACH;FMTTYPE=image/jpeg:/wp-content/uploads/sites/50/2025/08/The-Seward-Courthouse-for-Submission-9278-2-002-scaled.jpg
END:VEVENT
BEGIN:VEVENT
DTSTART;TZID=America/Chicago:20260704T000000
DTEND;TZID=America/Chicago:20260704T235959
DTSTAMP:20260424T154628
CREATED:20240429T211349Z
LAST-MODIFIED:20241212T170636Z
UID:10000289-1783123200-1783209599@sewardcountyne.gov
SUMMARY:Independence Day - Closed
DESCRIPTION:All Offices Closed
URL:https://sewardcountyne.gov/event/independence-day/2026-07-04/
LOCATION:NE
CATEGORIES:Holiday
END:VEVENT
BEGIN:VEVENT
DTSTART;TZID=America/Chicago:20260707T090000
DTEND;TZID=America/Chicago:20260707T090000
DTSTAMP:20260424T154628
CREATED:20250911T185611Z
LAST-MODIFIED:20251017T210148Z
UID:10000389-1783414800-1783414800@sewardcountyne.gov
SUMMARY:County Board Meeting
DESCRIPTION:This is a county board meeting. An agenda can be found on the Board Meetings page.
URL:https://sewardcountyne.gov/event/county-board-meeting-2/2026-07-07/
LOCATION:Seward County Courthouse\, 529 Seward Street\, Seward\, NE\, 68434\, United States
CATEGORIES:County Board Meeting
ATTACH;FMTTYPE=image/jpeg:/wp-content/uploads/sites/50/2025/08/The-Seward-Courthouse-for-Submission-9278-2-002-scaled.jpg
END:VEVENT
BEGIN:VEVENT
DTSTART;TZID=America/Chicago:20260708T084500
DTEND;TZID=America/Chicago:20260708T163000
DTSTAMP:20260424T154628
CREATED:20260415T130603Z
LAST-MODIFIED:20260415T131309Z
UID:10000648-1783500300-1783528200@sewardcountyne.gov
SUMMARY:Driver's Examiner
DESCRIPTION:Examiner is located on the 1st floor of the Seward County Courthouse.  More information can be found on the DMV Services page.
URL:https://sewardcountyne.gov/event/drivers-examiner-2/2026-07-08/
LOCATION:Seward County Courthouse\, 529 Seward Street\, Seward\, NE\, 68434\, United States
CATEGORIES:Driver Examiner
ATTACH;FMTTYPE=image/jpeg:/wp-content/uploads/sites/50/2025/08/The-Seward-Courthouse-for-Submission-9278-2-002-scaled.jpg
END:VEVENT
BEGIN:VEVENT
DTSTART;TZID=America/Chicago:20260714T090000
DTEND;TZID=America/Chicago:20260714T090000
DTSTAMP:20260424T154628
CREATED:20250911T185611Z
LAST-MODIFIED:20251017T210148Z
UID:10000390-1784019600-1784019600@sewardcountyne.gov
SUMMARY:County Board Meeting
DESCRIPTION:This is a county board meeting. An agenda can be found on the Board Meetings page.
URL:https://sewardcountyne.gov/event/county-board-meeting-2/2026-07-14/
LOCATION:Seward County Courthouse\, 529 Seward Street\, Seward\, NE\, 68434\, United States
CATEGORIES:County Board Meeting
ATTACH;FMTTYPE=image/jpeg:/wp-content/uploads/sites/50/2025/08/The-Seward-Courthouse-for-Submission-9278-2-002-scaled.jpg
END:VEVENT
BEGIN:VEVENT
DTSTART;TZID=America/Chicago:20260715T084500
DTEND;TZID=America/Chicago:20260715T163000
DTSTAMP:20260424T154628
CREATED:20260415T130603Z
LAST-MODIFIED:20260415T131309Z
UID:10000649-1784105100-1784133000@sewardcountyne.gov
SUMMARY:Driver's Examiner
DESCRIPTION:Examiner is located on the 1st floor of the Seward County Courthouse.  More information can be found on the DMV Services page.
URL:https://sewardcountyne.gov/event/drivers-examiner-2/2026-07-15/
LOCATION:Seward County Courthouse\, 529 Seward Street\, Seward\, NE\, 68434\, United States
CATEGORIES:Driver Examiner
ATTACH;FMTTYPE=image/jpeg:/wp-content/uploads/sites/50/2025/08/The-Seward-Courthouse-for-Submission-9278-2-002-scaled.jpg
END:VEVENT
BEGIN:VEVENT
DTSTART;TZID=America/Chicago:20260720T190000
DTEND;TZID=America/Chicago:20260720T190000
DTSTAMP:20260424T154628
CREATED:20251008T195135Z
LAST-MODIFIED:20260120T175419Z
UID:10000878-1784574000-1784574000@sewardcountyne.gov
SUMMARY:Planning Commission Meeting
DESCRIPTION:This is a meeting of the Seward County Planning Commission.  An agenda can be found on the Planning and Zoning Meetings page.
URL:https://sewardcountyne.gov/event/planning-commission-meeting/2026-07-20/
LOCATION:Extension Office\, 322 S 14th Street\, Seward\, NE\, 68434\, United States
CATEGORIES:Planning Commission Meeting
ATTACH;FMTTYPE=image/jpeg:/wp-content/uploads/sites/50/2024/10/Countryside-Beauty-for-submission-9292-1-scaled.jpg
END:VEVENT
BEGIN:VEVENT
DTSTART;TZID=America/Chicago:20260721T090000
DTEND;TZID=America/Chicago:20260721T090000
DTSTAMP:20260424T154628
CREATED:20250911T185611Z
LAST-MODIFIED:20251017T210148Z
UID:10000391-1784624400-1784624400@sewardcountyne.gov
SUMMARY:County Board Meeting
DESCRIPTION:This is a county board meeting. An agenda can be found on the Board Meetings page.
URL:https://sewardcountyne.gov/event/county-board-meeting-2/2026-07-21/
LOCATION:Seward County Courthouse\, 529 Seward Street\, Seward\, NE\, 68434\, United States
CATEGORIES:County Board Meeting
ATTACH;FMTTYPE=image/jpeg:/wp-content/uploads/sites/50/2025/08/The-Seward-Courthouse-for-Submission-9278-2-002-scaled.jpg
END:VEVENT
BEGIN:VEVENT
DTSTART;TZID=America/Chicago:20260722T084500
DTEND;TZID=America/Chicago:20260722T163000
DTSTAMP:20260424T154628
CREATED:20260415T130603Z
LAST-MODIFIED:20260415T131309Z
UID:10000650-1784709900-1784737800@sewardcountyne.gov
SUMMARY:Driver's Examiner
DESCRIPTION:Examiner is located on the 1st floor of the Seward County Courthouse.  More information can be found on the DMV Services page.
URL:https://sewardcountyne.gov/event/drivers-examiner-2/2026-07-22/
LOCATION:Seward County Courthouse\, 529 Seward Street\, Seward\, NE\, 68434\, United States
CATEGORIES:Driver Examiner
ATTACH;FMTTYPE=image/jpeg:/wp-content/uploads/sites/50/2025/08/The-Seward-Courthouse-for-Submission-9278-2-002-scaled.jpg
END:VEVENT
BEGIN:VEVENT
DTSTART;TZID=America/Chicago:20260728T090000
DTEND;TZID=America/Chicago:20260728T090000
DTSTAMP:20260424T154628
CREATED:20250911T185611Z
LAST-MODIFIED:20251017T210148Z
UID:10000392-1785229200-1785229200@sewardcountyne.gov
SUMMARY:County Board Meeting
DESCRIPTION:This is a county board meeting. An agenda can be found on the Board Meetings page.
URL:https://sewardcountyne.gov/event/county-board-meeting-2/2026-07-28/
LOCATION:Seward County Courthouse\, 529 Seward Street\, Seward\, NE\, 68434\, United States
CATEGORIES:County Board Meeting
ATTACH;FMTTYPE=image/jpeg:/wp-content/uploads/sites/50/2025/08/The-Seward-Courthouse-for-Submission-9278-2-002-scaled.jpg
END:VEVENT
BEGIN:VEVENT
DTSTART;TZID=America/Chicago:20260729T084500
DTEND;TZID=America/Chicago:20260729T163000
DTSTAMP:20260424T154628
CREATED:20260415T130603Z
LAST-MODIFIED:20260415T131309Z
UID:10000651-1785314700-1785342600@sewardcountyne.gov
SUMMARY:Driver's Examiner
DESCRIPTION:Examiner is located on the 1st floor of the Seward County Courthouse.  More information can be found on the DMV Services page.
URL:https://sewardcountyne.gov/event/drivers-examiner-2/2026-07-29/
LOCATION:Seward County Courthouse\, 529 Seward Street\, Seward\, NE\, 68434\, United States
CATEGORIES:Driver Examiner
ATTACH;FMTTYPE=image/jpeg:/wp-content/uploads/sites/50/2025/08/The-Seward-Courthouse-for-Submission-9278-2-002-scaled.jpg
END:VEVENT
END:VCALENDAR