BEGIN:VCALENDAR
VERSION:2.0
PRODID:-//Seward County - ECPv6.15.20//NONSGML v1.0//EN
CALSCALE:GREGORIAN
METHOD:PUBLISH
X-ORIGINAL-URL:https://sewardcountyne.gov
X-WR-CALDESC:Events for Seward County
REFRESH-INTERVAL;VALUE=DURATION:PT1H
X-Robots-Tag:noindex
X-PUBLISHED-TTL:PT1H
BEGIN:VTIMEZONE
TZID:America/Chicago
BEGIN:DAYLIGHT
TZOFFSETFROM:-0600
TZOFFSETTO:-0500
TZNAME:CDT
DTSTART:20250309T080000
END:DAYLIGHT
BEGIN:STANDARD
TZOFFSETFROM:-0500
TZOFFSETTO:-0600
TZNAME:CST
DTSTART:20251102T070000
END:STANDARD
BEGIN:DAYLIGHT
TZOFFSETFROM:-0600
TZOFFSETTO:-0500
TZNAME:CDT
DTSTART:20260308T080000
END:DAYLIGHT
BEGIN:STANDARD
TZOFFSETFROM:-0500
TZOFFSETTO:-0600
TZNAME:CST
DTSTART:20261101T070000
END:STANDARD
BEGIN:DAYLIGHT
TZOFFSETFROM:-0600
TZOFFSETTO:-0500
TZNAME:CDT
DTSTART:20270314T080000
END:DAYLIGHT
BEGIN:STANDARD
TZOFFSETFROM:-0500
TZOFFSETTO:-0600
TZNAME:CST
DTSTART:20271107T070000
END:STANDARD
END:VTIMEZONE
BEGIN:VEVENT
DTSTART;TZID=America/Chicago:20260505T090000
DTEND;TZID=America/Chicago:20260505T090000
DTSTAMP:20260424T111518
CREATED:20250911T185611Z
LAST-MODIFIED:20251017T210148Z
UID:10000380-1777971600-1777971600@sewardcountyne.gov
SUMMARY:County Board Meeting
DESCRIPTION:This is a county board meeting. An agenda can be found on the Board Meetings page.
URL:https://sewardcountyne.gov/event/county-board-meeting-2/2026-05-05/
LOCATION:Seward County Courthouse\, 529 Seward Street\, Seward\, NE\, 68434\, United States
CATEGORIES:County Board Meeting
ATTACH;FMTTYPE=image/jpeg:/wp-content/uploads/sites/50/2025/08/The-Seward-Courthouse-for-Submission-9278-2-002-scaled.jpg
END:VEVENT
BEGIN:VEVENT
DTSTART;TZID=America/Chicago:20260506T084500
DTEND;TZID=America/Chicago:20260506T163000
DTSTAMP:20260424T111518
CREATED:20260415T130603Z
LAST-MODIFIED:20260415T131309Z
UID:10000639-1778057100-1778085000@sewardcountyne.gov
SUMMARY:Driver's Examiner
DESCRIPTION:Examiner is located on the 1st floor of the Seward County Courthouse.  More information can be found on the DMV Services page.
URL:https://sewardcountyne.gov/event/drivers-examiner-2/2026-05-06/
LOCATION:Seward County Courthouse\, 529 Seward Street\, Seward\, NE\, 68434\, United States
CATEGORIES:Driver Examiner
ATTACH;FMTTYPE=image/jpeg:/wp-content/uploads/sites/50/2025/08/The-Seward-Courthouse-for-Submission-9278-2-002-scaled.jpg
END:VEVENT
BEGIN:VEVENT
DTSTART;TZID=America/Chicago:20260512T090000
DTEND;TZID=America/Chicago:20260512T090000
DTSTAMP:20260424T111518
CREATED:20250911T185611Z
LAST-MODIFIED:20251017T210148Z
UID:10000381-1778576400-1778576400@sewardcountyne.gov
SUMMARY:County Board Meeting
DESCRIPTION:This is a county board meeting. An agenda can be found on the Board Meetings page.
URL:https://sewardcountyne.gov/event/county-board-meeting-2/2026-05-12/
LOCATION:Seward County Courthouse\, 529 Seward Street\, Seward\, NE\, 68434\, United States
CATEGORIES:County Board Meeting
ATTACH;FMTTYPE=image/jpeg:/wp-content/uploads/sites/50/2025/08/The-Seward-Courthouse-for-Submission-9278-2-002-scaled.jpg
END:VEVENT
BEGIN:VEVENT
DTSTART;TZID=America/Chicago:20260513T084500
DTEND;TZID=America/Chicago:20260513T163000
DTSTAMP:20260424T111518
CREATED:20260415T130603Z
LAST-MODIFIED:20260415T131309Z
UID:10000640-1778661900-1778689800@sewardcountyne.gov
SUMMARY:Driver's Examiner
DESCRIPTION:Examiner is located on the 1st floor of the Seward County Courthouse.  More information can be found on the DMV Services page.
URL:https://sewardcountyne.gov/event/drivers-examiner-2/2026-05-13/
LOCATION:Seward County Courthouse\, 529 Seward Street\, Seward\, NE\, 68434\, United States
CATEGORIES:Driver Examiner
ATTACH;FMTTYPE=image/jpeg:/wp-content/uploads/sites/50/2025/08/The-Seward-Courthouse-for-Submission-9278-2-002-scaled.jpg
END:VEVENT
BEGIN:VEVENT
DTSTART;TZID=America/Chicago:20260518T190000
DTEND;TZID=America/Chicago:20260518T190000
DTSTAMP:20260424T111518
CREATED:20251008T195135Z
LAST-MODIFIED:20260120T175419Z
UID:10000876-1779130800-1779130800@sewardcountyne.gov
SUMMARY:Planning Commission Meeting
DESCRIPTION:This is a meeting of the Seward County Planning Commission.  An agenda can be found on the Planning and Zoning Meetings page.
URL:https://sewardcountyne.gov/event/planning-commission-meeting/2026-05-18/
LOCATION:Extension Office\, 322 S 14th Street\, Seward\, NE\, 68434\, United States
CATEGORIES:Planning Commission Meeting
ATTACH;FMTTYPE=image/jpeg:/wp-content/uploads/sites/50/2024/10/Countryside-Beauty-for-submission-9292-1-scaled.jpg
END:VEVENT
BEGIN:VEVENT
DTSTART;TZID=America/Chicago:20260519T090000
DTEND;TZID=America/Chicago:20260519T090000
DTSTAMP:20260424T111518
CREATED:20250911T185611Z
LAST-MODIFIED:20251017T210148Z
UID:10000382-1779181200-1779181200@sewardcountyne.gov
SUMMARY:County Board Meeting
DESCRIPTION:This is a county board meeting. An agenda can be found on the Board Meetings page.
URL:https://sewardcountyne.gov/event/county-board-meeting-2/2026-05-19/
LOCATION:Seward County Courthouse\, 529 Seward Street\, Seward\, NE\, 68434\, United States
CATEGORIES:County Board Meeting
ATTACH;FMTTYPE=image/jpeg:/wp-content/uploads/sites/50/2025/08/The-Seward-Courthouse-for-Submission-9278-2-002-scaled.jpg
END:VEVENT
BEGIN:VEVENT
DTSTART;TZID=America/Chicago:20260520T084500
DTEND;TZID=America/Chicago:20260520T163000
DTSTAMP:20260424T111518
CREATED:20260415T130603Z
LAST-MODIFIED:20260415T131309Z
UID:10000641-1779266700-1779294600@sewardcountyne.gov
SUMMARY:Driver's Examiner
DESCRIPTION:Examiner is located on the 1st floor of the Seward County Courthouse.  More information can be found on the DMV Services page.
URL:https://sewardcountyne.gov/event/drivers-examiner-2/2026-05-20/
LOCATION:Seward County Courthouse\, 529 Seward Street\, Seward\, NE\, 68434\, United States
CATEGORIES:Driver Examiner
ATTACH;FMTTYPE=image/jpeg:/wp-content/uploads/sites/50/2025/08/The-Seward-Courthouse-for-Submission-9278-2-002-scaled.jpg
END:VEVENT
BEGIN:VEVENT
DTSTART;TZID=America/Chicago:20260525T000000
DTEND;TZID=America/Chicago:20260525T235959
DTSTAMP:20260424T111518
CREATED:20240429T202532Z
LAST-MODIFIED:20241212T170643Z
UID:10000019-1779667200-1779753599@sewardcountyne.gov
SUMMARY:Memorial Day - Closed
DESCRIPTION:All Offices Closed
URL:https://sewardcountyne.gov/event/memorial-day/2026-05-25/
LOCATION:NE
CATEGORIES:Holiday
END:VEVENT
BEGIN:VEVENT
DTSTART;TZID=America/Chicago:20260526T090000
DTEND;TZID=America/Chicago:20260526T090000
DTSTAMP:20260424T111518
CREATED:20250911T185611Z
LAST-MODIFIED:20251017T210148Z
UID:10000383-1779786000-1779786000@sewardcountyne.gov
SUMMARY:County Board Meeting
DESCRIPTION:This is a county board meeting. An agenda can be found on the Board Meetings page.
URL:https://sewardcountyne.gov/event/county-board-meeting-2/2026-05-26/
LOCATION:Seward County Courthouse\, 529 Seward Street\, Seward\, NE\, 68434\, United States
CATEGORIES:County Board Meeting
ATTACH;FMTTYPE=image/jpeg:/wp-content/uploads/sites/50/2025/08/The-Seward-Courthouse-for-Submission-9278-2-002-scaled.jpg
END:VEVENT
BEGIN:VEVENT
DTSTART;TZID=America/Chicago:20260527T084500
DTEND;TZID=America/Chicago:20260527T163000
DTSTAMP:20260424T111518
CREATED:20260415T130603Z
LAST-MODIFIED:20260415T131309Z
UID:10000642-1779871500-1779899400@sewardcountyne.gov
SUMMARY:Driver's Examiner
DESCRIPTION:Examiner is located on the 1st floor of the Seward County Courthouse.  More information can be found on the DMV Services page.
URL:https://sewardcountyne.gov/event/drivers-examiner-2/2026-05-27/
LOCATION:Seward County Courthouse\, 529 Seward Street\, Seward\, NE\, 68434\, United States
CATEGORIES:Driver Examiner
ATTACH;FMTTYPE=image/jpeg:/wp-content/uploads/sites/50/2025/08/The-Seward-Courthouse-for-Submission-9278-2-002-scaled.jpg
END:VEVENT
END:VCALENDAR