BEGIN:VCALENDAR
VERSION:2.0
PRODID:-//Seward County - ECPv6.15.20//NONSGML v1.0//EN
CALSCALE:GREGORIAN
METHOD:PUBLISH
X-WR-CALNAME:Seward County
X-ORIGINAL-URL:https://sewardcountyne.gov
X-WR-CALDESC:Events for Seward County
REFRESH-INTERVAL;VALUE=DURATION:PT1H
X-Robots-Tag:noindex
X-PUBLISHED-TTL:PT1H
BEGIN:VTIMEZONE
TZID:America/Chicago
BEGIN:DAYLIGHT
TZOFFSETFROM:-0600
TZOFFSETTO:-0500
TZNAME:CDT
DTSTART:20250309T080000
END:DAYLIGHT
BEGIN:STANDARD
TZOFFSETFROM:-0500
TZOFFSETTO:-0600
TZNAME:CST
DTSTART:20251102T070000
END:STANDARD
BEGIN:DAYLIGHT
TZOFFSETFROM:-0600
TZOFFSETTO:-0500
TZNAME:CDT
DTSTART:20260308T080000
END:DAYLIGHT
BEGIN:STANDARD
TZOFFSETFROM:-0500
TZOFFSETTO:-0600
TZNAME:CST
DTSTART:20261101T070000
END:STANDARD
BEGIN:DAYLIGHT
TZOFFSETFROM:-0600
TZOFFSETTO:-0500
TZNAME:CDT
DTSTART:20270314T080000
END:DAYLIGHT
BEGIN:STANDARD
TZOFFSETFROM:-0500
TZOFFSETTO:-0600
TZNAME:CST
DTSTART:20271107T070000
END:STANDARD
END:VTIMEZONE
BEGIN:VEVENT
DTSTART;TZID=America/Chicago:20260203T090000
DTEND;TZID=America/Chicago:20260203T090000
DTSTAMP:20260424T123906
CREATED:20250911T185611Z
LAST-MODIFIED:20251017T210148Z
UID:10000367-1770109200-1770109200@sewardcountyne.gov
SUMMARY:County Board Meeting
DESCRIPTION:This is a county board meeting. An agenda can be found on the Board Meetings page.
URL:https://sewardcountyne.gov/event/county-board-meeting-2/2026-02-03/
LOCATION:Seward County Courthouse\, 529 Seward Street\, Seward\, NE\, 68434\, United States
CATEGORIES:County Board Meeting
ATTACH;FMTTYPE=image/jpeg:/wp-content/uploads/sites/50/2025/08/The-Seward-Courthouse-for-Submission-9278-2-002-scaled.jpg
END:VEVENT
BEGIN:VEVENT
DTSTART;TZID=America/Chicago:20260204T084500
DTEND;TZID=America/Chicago:20260204T163000
DTSTAMP:20260424T123906
CREATED:20250925T134714Z
LAST-MODIFIED:20260323T191048Z
UID:10000626-1770194700-1770222600@sewardcountyne.gov
SUMMARY:Driver's Examiner
DESCRIPTION:Examiner is located on the 1st floor of the Seward County Courthouse.  More information can be found on the DMV Services page.
URL:https://sewardcountyne.gov/event/drivers-examiner/2026-02-04/
LOCATION:Seward County Courthouse\, 529 Seward Street\, Seward\, NE\, 68434\, United States
CATEGORIES:Driver Examiner
ATTACH;FMTTYPE=image/jpeg:/wp-content/uploads/sites/50/2025/08/The-Seward-Courthouse-for-Submission-9278-2-002-scaled.jpg
END:VEVENT
BEGIN:VEVENT
DTSTART;TZID=America/Chicago:20260210T090000
DTEND;TZID=America/Chicago:20260210T090000
DTSTAMP:20260424T123906
CREATED:20250911T185611Z
LAST-MODIFIED:20251017T210148Z
UID:10000368-1770714000-1770714000@sewardcountyne.gov
SUMMARY:County Board Meeting
DESCRIPTION:This is a county board meeting. An agenda can be found on the Board Meetings page.
URL:https://sewardcountyne.gov/event/county-board-meeting-2/2026-02-10/
LOCATION:Seward County Courthouse\, 529 Seward Street\, Seward\, NE\, 68434\, United States
CATEGORIES:County Board Meeting
ATTACH;FMTTYPE=image/jpeg:/wp-content/uploads/sites/50/2025/08/The-Seward-Courthouse-for-Submission-9278-2-002-scaled.jpg
END:VEVENT
BEGIN:VEVENT
DTSTART;TZID=America/Chicago:20260211T084500
DTEND;TZID=America/Chicago:20260211T163000
DTSTAMP:20260424T123906
CREATED:20250925T134714Z
LAST-MODIFIED:20260323T191048Z
UID:10000627-1770799500-1770827400@sewardcountyne.gov
SUMMARY:Driver's Examiner
DESCRIPTION:Examiner is located on the 1st floor of the Seward County Courthouse.  More information can be found on the DMV Services page.
URL:https://sewardcountyne.gov/event/drivers-examiner/2026-02-11/
LOCATION:Seward County Courthouse\, 529 Seward Street\, Seward\, NE\, 68434\, United States
CATEGORIES:Driver Examiner
ATTACH;FMTTYPE=image/jpeg:/wp-content/uploads/sites/50/2025/08/The-Seward-Courthouse-for-Submission-9278-2-002-scaled.jpg
END:VEVENT
BEGIN:VEVENT
DTSTART;VALUE=DATE:20260216
DTEND;VALUE=DATE:20260217
DTSTAMP:20260424T123906
CREATED:20240821T153425Z
LAST-MODIFIED:20241212T170616Z
UID:10000312-1771200000-1771286399@sewardcountyne.gov
SUMMARY:President's Day - Closed
DESCRIPTION:All Offices Closed
URL:https://sewardcountyne.gov/event/presidents-day/2026-02-16/
LOCATION:NE
CATEGORIES:Holiday
END:VEVENT
BEGIN:VEVENT
DTSTART;TZID=America/Chicago:20260217T090000
DTEND;TZID=America/Chicago:20260217T090000
DTSTAMP:20260424T123906
CREATED:20250911T185611Z
LAST-MODIFIED:20251017T210148Z
UID:10000369-1771318800-1771318800@sewardcountyne.gov
SUMMARY:County Board Meeting
DESCRIPTION:This is a county board meeting. An agenda can be found on the Board Meetings page.
URL:https://sewardcountyne.gov/event/county-board-meeting-2/2026-02-17/
LOCATION:Seward County Courthouse\, 529 Seward Street\, Seward\, NE\, 68434\, United States
CATEGORIES:County Board Meeting
ATTACH;FMTTYPE=image/jpeg:/wp-content/uploads/sites/50/2025/08/The-Seward-Courthouse-for-Submission-9278-2-002-scaled.jpg
END:VEVENT
BEGIN:VEVENT
DTSTART;TZID=America/Chicago:20260218T084500
DTEND;TZID=America/Chicago:20260218T163000
DTSTAMP:20260424T123906
CREATED:20250925T134714Z
LAST-MODIFIED:20260323T191048Z
UID:10000628-1771404300-1771432200@sewardcountyne.gov
SUMMARY:Driver's Examiner
DESCRIPTION:Examiner is located on the 1st floor of the Seward County Courthouse.  More information can be found on the DMV Services page.
URL:https://sewardcountyne.gov/event/drivers-examiner/2026-02-18/
LOCATION:Seward County Courthouse\, 529 Seward Street\, Seward\, NE\, 68434\, United States
CATEGORIES:Driver Examiner
ATTACH;FMTTYPE=image/jpeg:/wp-content/uploads/sites/50/2025/08/The-Seward-Courthouse-for-Submission-9278-2-002-scaled.jpg
END:VEVENT
BEGIN:VEVENT
DTSTART;TZID=America/Chicago:20260224T090000
DTEND;TZID=America/Chicago:20260224T090000
DTSTAMP:20260424T123906
CREATED:20250911T185611Z
LAST-MODIFIED:20251017T210148Z
UID:10000370-1771923600-1771923600@sewardcountyne.gov
SUMMARY:County Board Meeting
DESCRIPTION:This is a county board meeting. An agenda can be found on the Board Meetings page.
URL:https://sewardcountyne.gov/event/county-board-meeting-2/2026-02-24/
LOCATION:Seward County Courthouse\, 529 Seward Street\, Seward\, NE\, 68434\, United States
CATEGORIES:County Board Meeting
ATTACH;FMTTYPE=image/jpeg:/wp-content/uploads/sites/50/2025/08/The-Seward-Courthouse-for-Submission-9278-2-002-scaled.jpg
END:VEVENT
BEGIN:VEVENT
DTSTART;TZID=America/Chicago:20260225T084500
DTEND;TZID=America/Chicago:20260225T163000
DTSTAMP:20260424T123906
CREATED:20250925T134714Z
LAST-MODIFIED:20260323T191048Z
UID:10000629-1772009100-1772037000@sewardcountyne.gov
SUMMARY:Driver's Examiner
DESCRIPTION:Examiner is located on the 1st floor of the Seward County Courthouse.  More information can be found on the DMV Services page.
URL:https://sewardcountyne.gov/event/drivers-examiner/2026-02-25/
LOCATION:Seward County Courthouse\, 529 Seward Street\, Seward\, NE\, 68434\, United States
CATEGORIES:Driver Examiner
ATTACH;FMTTYPE=image/jpeg:/wp-content/uploads/sites/50/2025/08/The-Seward-Courthouse-for-Submission-9278-2-002-scaled.jpg
END:VEVENT
END:VCALENDAR